BEGIN:VCALENDAR
VERSION:2.0
PRODID:-//Entre-preneurs - ECPv6.15.20//NONSGML v1.0//EN
CALSCALE:GREGORIAN
METHOD:PUBLISH
X-WR-CALNAME:Entre-preneurs
X-ORIGINAL-URL:https://www.entre-preneurs.fr
X-WR-CALDESC:Évènements pour Entre-preneurs
REFRESH-INTERVAL;VALUE=DURATION:PT1H
X-Robots-Tag:noindex
X-PUBLISHED-TTL:PT1H
BEGIN:VTIMEZONE
TZID:Europe/Paris
BEGIN:DAYLIGHT
TZOFFSETFROM:+0100
TZOFFSETTO:+0200
TZNAME:CEST
DTSTART:20250330T010000
END:DAYLIGHT
BEGIN:STANDARD
TZOFFSETFROM:+0200
TZOFFSETTO:+0100
TZNAME:CET
DTSTART:20251026T010000
END:STANDARD
BEGIN:DAYLIGHT
TZOFFSETFROM:+0100
TZOFFSETTO:+0200
TZNAME:CEST
DTSTART:20260329T010000
END:DAYLIGHT
BEGIN:STANDARD
TZOFFSETFROM:+0200
TZOFFSETTO:+0100
TZNAME:CET
DTSTART:20261025T010000
END:STANDARD
BEGIN:DAYLIGHT
TZOFFSETFROM:+0100
TZOFFSETTO:+0200
TZNAME:CEST
DTSTART:20270328T010000
END:DAYLIGHT
BEGIN:STANDARD
TZOFFSETFROM:+0200
TZOFFSETTO:+0100
TZNAME:CET
DTSTART:20271031T010000
END:STANDARD
END:VTIMEZONE
BEGIN:VEVENT
DTSTART;TZID=Europe/Paris:20260611T103000
DTEND;TZID=Europe/Paris:20260611T110000
DTSTAMP:20260425T013334
CREATED:20260421T132147Z
LAST-MODIFIED:20260424T152747Z
UID:273-1781173800-1781175600@www.entre-preneurs.fr
SUMMARY:Minute Expert - Banque Populaire "Booster votre chiffre d’affaires grâce au e‑commerce et aux nouveaux moyens de paiement"
DESCRIPTION:Je participe à cet minute expert
URL:https://www.entre-preneurs.fr/event/me-banque-populaire-developper-votre-chiffre-daffaires-grace-au-e-commerce/
END:VEVENT
BEGIN:VEVENT
DTSTART;TZID=Europe/Paris:20260611T110500
DTEND;TZID=Europe/Paris:20260611T114500
DTSTAMP:20260425T013334
CREATED:20260421T132228Z
LAST-MODIFIED:20260424T152520Z
UID:275-1781175900-1781178300@www.entre-preneurs.fr
SUMMARY:Atelier Google – Je concrétise mon projet entrepreneurial avec l’aide de l’IA
DESCRIPTION:Je participe à cet atelier
URL:https://www.entre-preneurs.fr/event/google-je-concretise-mon-projet-entrepreneurial-avec-laide-de-lia/
END:VEVENT
BEGIN:VEVENT
DTSTART;TZID=Europe/Paris:20260611T110500
DTEND;TZID=Europe/Paris:20260611T114500
DTSTAMP:20260425T013334
CREATED:20260421T132329Z
LAST-MODIFIED:20260424T152505Z
UID:277-1781175900-1781178300@www.entre-preneurs.fr
SUMMARY:Atelier Comment financer son projet ?
DESCRIPTION:Je participe à cet atelier
URL:https://www.entre-preneurs.fr/event/comment-financer-son-projet/
END:VEVENT
BEGIN:VEVENT
DTSTART;TZID=Europe/Paris:20260611T115000
DTEND;TZID=Europe/Paris:20260611T122000
DTSTAMP:20260425T013334
CREATED:20260421T132400Z
LAST-MODIFIED:20260424T152643Z
UID:279-1781178600-1781180400@www.entre-preneurs.fr
SUMMARY:Minute Expert - Ordres des avocats "Astuce et questions clés pour les créateurs d'entreprise"
DESCRIPTION:Je participe à cet minute expert
URL:https://www.entre-preneurs.fr/event/me-ordres-des-avocats-astuce-et-questions-cles-pour-les-createurs-dentreprise/
END:VEVENT
BEGIN:VEVENT
DTSTART;TZID=Europe/Paris:20260611T122500
DTEND;TZID=Europe/Paris:20260611T125500
DTSTAMP:20260425T013334
CREATED:20260421T132427Z
LAST-MODIFIED:20260424T152323Z
UID:281-1781180700-1781182500@www.entre-preneurs.fr
SUMMARY:Atelier Construire les bases d'une stratégie de communication efficace
DESCRIPTION:Je participe à cet atelier
URL:https://www.entre-preneurs.fr/event/la-base-dune-strategie-de-communication/
END:VEVENT
BEGIN:VEVENT
DTSTART;TZID=Europe/Paris:20260611T122500
DTEND;TZID=Europe/Paris:20260611T125500
DTSTAMP:20260425T013334
CREATED:20260421T132454Z
LAST-MODIFIED:20260424T152242Z
UID:283-1781180700-1781182500@www.entre-preneurs.fr
SUMMARY:Atelier L'art du pitch
DESCRIPTION:Je participe à cet atelier
URL:https://www.entre-preneurs.fr/event/lart-du-pitch/
END:VEVENT
BEGIN:VEVENT
DTSTART;TZID=Europe/Paris:20260611T134500
DTEND;TZID=Europe/Paris:20260611T141500
DTSTAMP:20260425T013334
CREATED:20260421T132527Z
LAST-MODIFIED:20260424T152631Z
UID:285-1781185500-1781187300@www.entre-preneurs.fr
SUMMARY:Minute Expert : Crédit Agricole
DESCRIPTION:Je participe à cet minute expert
URL:https://www.entre-preneurs.fr/event/me-credit-agricole/
END:VEVENT
BEGIN:VEVENT
DTSTART;TZID=Europe/Paris:20260611T142000
DTEND;TZID=Europe/Paris:20260611T150000
DTSTAMP:20260425T013334
CREATED:20260421T132554Z
LAST-MODIFIED:20260424T152152Z
UID:287-1781187600-1781190000@www.entre-preneurs.fr
SUMMARY:Atelier Google - Je créée ma stratégie pour les réseaux sociaux avec l'aide de l'IA
DESCRIPTION:Je participe à cet atelier
URL:https://www.entre-preneurs.fr/event/google-je-creee-ma-strategie-pour-les-reseaux-sociaux-avec-laide-de-lia/
END:VEVENT
BEGIN:VEVENT
DTSTART;TZID=Europe/Paris:20260611T142000
DTEND;TZID=Europe/Paris:20260611T150000
DTSTAMP:20260425T013334
CREATED:20260421T132618Z
LAST-MODIFIED:20260424T152134Z
UID:289-1781187600-1781190000@www.entre-preneurs.fr
SUMMARY:Atelier - Préparer et financer sa reprise d'entreprise
DESCRIPTION:Je participe à cet atelier
URL:https://www.entre-preneurs.fr/event/preparer-et-financer-sa-reprise-dentreprise/
END:VEVENT
BEGIN:VEVENT
DTSTART;TZID=Europe/Paris:20260611T150500
DTEND;TZID=Europe/Paris:20260611T153500
DTSTAMP:20260425T013334
CREATED:20260421T132650Z
LAST-MODIFIED:20260424T152434Z
UID:291-1781190300-1781192100@www.entre-preneurs.fr
SUMMARY:Agora des territoires
DESCRIPTION:Je participe à cet atelier
URL:https://www.entre-preneurs.fr/event/me-agora-des-territoires/
END:VEVENT
BEGIN:VEVENT
DTSTART;TZID=Europe/Paris:20260611T150500
DTEND;TZID=Europe/Paris:20260611T153500
DTSTAMP:20260425T013334
CREATED:20260421T132711Z
LAST-MODIFIED:20260424T152058Z
UID:293-1781190300-1781192100@www.entre-preneurs.fr
SUMMARY:Atelier Micro-entreprises
DESCRIPTION:Je participe à cet atelier
URL:https://www.entre-preneurs.fr/event/micro-entreprises/
END:VEVENT
BEGIN:VEVENT
DTSTART;TZID=Europe/Paris:20260611T154000
DTEND;TZID=Europe/Paris:20260611T161000
DTSTAMP:20260425T013334
CREATED:20260421T132735Z
LAST-MODIFIED:20260424T152621Z
UID:295-1781192400-1781194200@www.entre-preneurs.fr
SUMMARY:Minute Expert - Chambre des notaires "Baux commerciaux : les pièges à éviter"
DESCRIPTION:Je participe à cet minute expert
URL:https://www.entre-preneurs.fr/event/me-chambres-des-notaires-baux-commerciaux-les-pieges-a-eviter/
END:VEVENT
END:VCALENDAR